BEGIN:VCALENDAR
VERSION:2.0
PRODID:-//CM Performing Arts Center - ECPv6.15.20//NONSGML v1.0//EN
CALSCALE:GREGORIAN
METHOD:PUBLISH
X-WR-CALNAME:CM Performing Arts Center
X-ORIGINAL-URL:https://cmpacarchive.com
X-WR-CALDESC:Events for CM Performing Arts Center
REFRESH-INTERVAL;VALUE=DURATION:PT1H
X-Robots-Tag:noindex
X-PUBLISHED-TTL:PT1H
BEGIN:VTIMEZONE
TZID:America/Halifax
BEGIN:DAYLIGHT
TZOFFSETFROM:-0400
TZOFFSETTO:-0300
TZNAME:ADT
DTSTART:20190310T060000
END:DAYLIGHT
BEGIN:STANDARD
TZOFFSETFROM:-0300
TZOFFSETTO:-0400
TZNAME:AST
DTSTART:20191103T050000
END:STANDARD
BEGIN:DAYLIGHT
TZOFFSETFROM:-0400
TZOFFSETTO:-0300
TZNAME:ADT
DTSTART:20200308T060000
END:DAYLIGHT
BEGIN:STANDARD
TZOFFSETFROM:-0300
TZOFFSETTO:-0400
TZNAME:AST
DTSTART:20201101T050000
END:STANDARD
BEGIN:DAYLIGHT
TZOFFSETFROM:-0400
TZOFFSETTO:-0300
TZNAME:ADT
DTSTART:20210314T060000
END:DAYLIGHT
BEGIN:STANDARD
TZOFFSETFROM:-0300
TZOFFSETTO:-0400
TZNAME:AST
DTSTART:20211107T050000
END:STANDARD
BEGIN:DAYLIGHT
TZOFFSETFROM:-0400
TZOFFSETTO:-0300
TZNAME:ADT
DTSTART:20220313T060000
END:DAYLIGHT
BEGIN:STANDARD
TZOFFSETFROM:-0300
TZOFFSETTO:-0400
TZNAME:AST
DTSTART:20221106T050000
END:STANDARD
END:VTIMEZONE
BEGIN:VEVENT
DTSTART;TZID=America/Halifax:20210414T100000
DTEND;TZID=America/Halifax:20210513T220000
DTSTAMP:20260423T054610
CREATED:20210408T144401Z
LAST-MODIFIED:20220914T194542Z
UID:6828-1618394400-1620943200@cmpacarchive.com
SUMMARY:Online Auction for the Arts
DESCRIPTION:
URL:https://cmpacarchive.com/auction/
CATEGORIES:Production Archive
ATTACH;FMTTYPE=image/jpeg:https://cmpacarchive.com/wp-content/uploads/2021/04/Online-Auction.jpg
END:VEVENT
BEGIN:VEVENT
DTSTART;TZID=America/Halifax:20210410T200000
DTEND;TZID=America/Halifax:20210426T163000
DTSTAMP:20260423T054610
CREATED:20200522T040049Z
LAST-MODIFIED:20220914T194518Z
UID:6613-1618084800-1619454600@cmpacarchive.com
SUMMARY:The Little Mermaid
DESCRIPTION:Based on one of Hans Christian Andersen’s most beloved stories and the classic animated film\, Disney’s The Little Mermaid is a hauntingly beautiful love story for the ages. With music by eight-time Academy Award winner\, Alan Menken\, lyrics by Howard Ashman and Glenn Slater and a compelling book by Doug Wright\, this fishy fable will capture your heart with its irresistible songs\, including “Under the Sea\,” “Kiss the Girl” and “Part of Your World.” \nAriel\, King Triton’s youngest daughter\, wishes to pursue the human Prince Eric in the world above\, bargaining with the evil sea witch\, Ursula\, to trade her tail for legs. But the bargain is not what it seems\, and Ariel needs the help of her colorful friends\, Flounder the fish\, Scuttle the seagull and Sebastian the crab to restore order under the sea. \n  \nAge Recommendation:  \n  \n\n	\n		\n		\n		\n			                 \n				\n					\n						Tickets					\n				\n				                 \n				\n					\n						Cast & Creative					\n				\n				                 \n				\n					\n						Production Photos					\n				\n				                 \n				\n					\n						News & Reviews					\n				\n				  \n		\n		\n		\n		\n			 \n				\n					Select a performance date below: \nIn-Person Performances \nSaturday\, April 10  7:30PM SOLD OUTSunday\, April 11  2:00PM SOLD OUTWednesday\, April 14  2:00PMFriday\, April 16  7:30PM SOLD OUTSaturday\, April 17  7:30PM SOLD OUTSunday\, April 18  2:00PM SOLD OUTWednesday\, April 21  7:30PMFriday\, April 23  7:30PM SOLD OUTSaturday\, April 24  7:30PM SOLD OUT \nVirtual Stream Performances \nFriday\, April 23  7:30PMSaturday\, April 24  7:30PM 				\n				\n				 \n				\n					 \nDirected by Kevin Burns\nMusic Directed by Matthew Surico\nChoreographed by M.E. Junge\nStage Managed by Karen Tese\nCostume/Wig Design by Ronald Green III\nLighting Design by Joe Naftal*\nSound Design by Carlos Dias\nAssistant Stage Manager - Emily Vaeth\nDance Captain - Juliana Jagielo\nSound Board Operator - Brianne Boyd\nSet Construction - Erik Pearson\, Brendan Noble\, Joe Rubino\n \nAriel - Jillian Michelle Smith\nPrince Eric - Luke Ferrari\nUrsula - Jennifer Geissman\nFlounder - Max Lamberg\nSebastian - Steffy Jolin\nScuttle - Anthony Arpino\nKing Triton - Peter J. Osterman\nGrimsby - Carl Tese\nFlotsam - Jordan Yates\nJetsam - Richie Castronova\nChef Louis/Pilot - Erich Grathwohl\nAquata - Noelle Eichenlaub\nAndrina - Brooke Miranda\nArista - Sarah Minto\nAttina - Katy Trunz\nAdella - Jordyn Zurbaran\nAlana - Aubrey Alvino\nEnsemble - Brendan Bitler\, Tyler Marie Ciulnick\, Emily DeMartino\, Dominick Iadanza\, Juliana Jagielo\, Emerese Noel\, Warren Tierney\n \n*The lighting designer is represented by United Scenic Artists				\n				\n				 \n				\n					Photos by Larisa Schadt \n\n			\n				\n			\n			\n				\n			\n			\n				\n			\n			\n				\n			\n			\n				\n			\n			\n				\n			\n			\n				\n			\n			\n				\n			\n			\n				\n			\n			\n				\n			\n			\n				\n			\n			\n				\n			\n			\n				\n			\n			\n				\n			\n			\n				\n			\n			\n				\n			\n			\n				\n			\n			\n				\n			\n			\n				\n			\n			\n				\n			\n			\n				\n			\n			\n				\n			\n			\n				\n			\n			\n				\n			\n			\n				\n			\n			\n				\n			\n			\n				\n			\n			\n				\n			\n		\n 				\n				\n				 \n				\n					Check back soon for news and features!
URL:https://cmpacarchive.com/event/the-little-mermaid/
LOCATION:Noel S. Ruiz Theatre\, 931 Montauk Highway\, Oakdale\, NY\, 11769\, United States
CATEGORIES:Production Archive
ATTACH;FMTTYPE=image/jpeg:https://cmpacarchive.com/wp-content/uploads/2020/05/Mermaid_Web-1.jpg
END:VEVENT
BEGIN:VEVENT
DTSTART;TZID=America/Halifax:20210305T120000
DTEND;TZID=America/Halifax:20210312T180000
DTSTAMP:20260423T054610
CREATED:20201222T000937Z
LAST-MODIFIED:20220914T194425Z
UID:6240-1614945600-1615572000@cmpacarchive.com
SUMMARY:High School Musical
DESCRIPTION:Disney Channel’s smash hit movie musical comes to life on your stage! Troy\, Gabriella and the students of East High must deal with issues of first love\, friends and family while balancing their classes and extracurricular activities. \nIt’s the first day after winter break at East High. The Jocks\, Brainiacs\, Thespians and Skater Dudes find their cliques\, recount their vacations and look forward to the new year. Basketball team captain and resident jock\, Troy\, discovers that the brainy Gabriella\, a girl he met singing karaoke on his ski trip\, has just enrolled at East High. They cause an upheaval when they decide to audition for the high school musical that is being led by Ms. Darbus. Although many students resent the threat posed to the “status quo\,” Troy and Gabriella’s alliance might just open the door for others to shine as well. \n  \nAge Recommendation:  \n  \n\n	\n		\n		\n		\n			                 \n				\n					\n						Tickets					\n				\n				                 \n				\n					\n						Cast & Creative					\n				\n				                 \n				\n					\n						Production Photos					\n				\n				                 \n				\n					\n						News & Reviews					\n				\n				  \n		\n		\n		\n		\n			 \n				\n					Select a performance date below: \nFriday\, March 5  7:30PMSaturday\, March 6  11:00AMSaturday\, March 6  2:00PMSaturday\, March 6  7:30PMSunday\, March 7  11:00AMSunday\, March 7  2:00PMFriday\, March 12  7:30PMSaturday\, March 13  7:30PMSeat assignments are subject to change at the discretion of management. 				\n				\n				 \n				\n					Cast & creative information coming soon! 				\n				\n				 \n				\n					Check back soon for production photos! 				\n				\n				 \n				\n					Check back soon for news and features!
URL:https://cmpacarchive.com/event/high-school-musical/
LOCATION:Noel S. Ruiz Theatre\, 931 Montauk Highway\, Oakdale\, NY\, 11769\, United States
CATEGORIES:Production Archive
ATTACH;FMTTYPE=image/jpeg:https://cmpacarchive.com/wp-content/uploads/2020/12/images.jpeg
END:VEVENT
BEGIN:VEVENT
DTSTART;TZID=America/Halifax:20210304T090000
DTEND;TZID=America/Halifax:20210304T180000
DTSTAMP:20260423T054610
CREATED:20210305T004445Z
LAST-MODIFIED:20220914T191114Z
UID:6570-1614848400-1614880800@cmpacarchive.com
SUMMARY:Easter Bunny Experience
DESCRIPTION:
URL:https://cmpacarchive.com/easter-bunny-experience/
CATEGORIES:Production Archive
ATTACH;FMTTYPE=image/jpeg:https://cmpacarchive.com/wp-content/uploads/2021/03/EasterWeb.jpg
END:VEVENT
BEGIN:VEVENT
DTSTART;TZID=America/Halifax:20210224T210000
DTEND;TZID=America/Halifax:20210224T230000
DTSTAMP:20260423T054610
CREATED:20200421T200318Z
LAST-MODIFIED:20220914T194312Z
UID:1991-1614200400-1614207600@cmpacarchive.com
SUMMARY:CM Live
DESCRIPTION:CM Live is a weekly virtual cabaret starring your favorite CM performers live….in your living room!  Each week will feature a different musical theme\, a different lineup of performers\, and a different energetic host. \nClick here to watch \nUpcoming Episode:\n \n  \n \nUpcoming/Current Episode:\n﻿﻿﻿ \nClick here to Donate to the Noel S. Ruiz Scholarship Fund\nPast Episodes:
URL:https://cmpacarchive.com/event/cm-live/
CATEGORIES:Production Archive
ATTACH;FMTTYPE=image/jpeg:https://cmpacarchive.com/wp-content/uploads/2020/04/CMLIVE_Logo_FR.jpg
END:VEVENT
BEGIN:VEVENT
DTSTART;TZID=America/Halifax:20210121T130000
DTEND;TZID=America/Halifax:20210214T200000
DTSTAMP:20260423T054610
CREATED:20210112T183051Z
LAST-MODIFIED:20220914T194240Z
UID:6346-1611234000-1613332800@cmpacarchive.com
SUMMARY:Valentine's Insta-Photo Op
DESCRIPTION:
URL:https://cmpacarchive.com/valentines/
CATEGORIES:Production Archive
ATTACH;FMTTYPE=image/png:https://cmpacarchive.com/wp-content/uploads/2021/01/Valentines-Day.png
END:VEVENT
BEGIN:VEVENT
DTSTART;TZID=America/Halifax:20201121T110000
DTEND;TZID=America/Halifax:20201220T170000
DTSTAMP:20260423T054610
CREATED:20201103T005015Z
LAST-MODIFIED:20220914T194216Z
UID:5506-1605956400-1608483600@cmpacarchive.com
SUMMARY:North Pole Experience
DESCRIPTION:
URL:https://cmpacarchive.com/north-pole-experience/
CATEGORIES:Production Archive
ATTACH;FMTTYPE=image/jpeg:https://cmpacarchive.com/wp-content/uploads/2020/11/NP-Web.jpg
END:VEVENT
BEGIN:VEVENT
DTSTART;TZID=America/Halifax:20201015T180000
DTEND;TZID=America/Halifax:20201101T230000
DTSTAMP:20260423T054610
CREATED:20200919T035025Z
LAST-MODIFIED:20220914T194147Z
UID:5415-1602784800-1604271600@cmpacarchive.com
SUMMARY:Haunted Theatre
DESCRIPTION:
URL:https://cmpacarchive.com/haunted-theatre
CATEGORIES:Production Archive
ATTACH;FMTTYPE=image/jpeg:https://cmpacarchive.com/wp-content/uploads/2020/09/HauntedTheatreWeb.jpg
END:VEVENT
BEGIN:VEVENT
DTSTART;TZID=America/Halifax:20200918T120000
DTEND;TZID=America/Halifax:20201011T190000
DTSTAMP:20260423T054610
CREATED:20200828T151002Z
LAST-MODIFIED:20220914T193925Z
UID:5353-1600430400-1602442800@cmpacarchive.com
SUMMARY:The Rat Pack is Back
DESCRIPTION:Featuring songs from your favorite A-listers\, Frank Sinatra\, Dean Martin\, Sammy Davis Jr.\, Lauren Bacall\, and more.  A night not to be missed! \nAge Recommendation:  \n  \n\n	\n		\n		\n		\n			                 \n				\n					\n						Tickets					\n				\n				                 \n				\n					\n						Cast & Creative					\n				\n				                 \n				\n					\n						Production Photos					\n				\n				                 \n				\n					\n						News & Reviews					\n				\n				  \n		\n		\n		\n		\n			 \n				\n					This show is part of CM's Outdoor Series.  Reserve your tickets early as occupancy is extremely limited in accordance with NY State Non-Essential Gathering Limit.  Seats will be socially distanced and face coverings are required for all patrons above age 2. \nTickets can be purchased for seats or at a table (each party will be seated separately).  Tables will be given a special menu to order from and will pay the restaurant directly. \nSelect a performance date below: \nSunday\, October 11  4:00PMSunday\, October 11  6:00PM 				\n				\n				 \n				\n					Cast & creative information coming soon! 				\n				\n				 \n				\n					Check back soon for production photos! 				\n				\n				 \n				\n					Check back soon for news and features!
URL:https://cmpacarchive.com/event/the-rat-pack-is-back/
LOCATION:Noel S. Ruiz Theatre\, 931 Montauk Highway\, Oakdale\, NY\, 11769\, United States
CATEGORIES:Production Archive
ATTACH;FMTTYPE=image/jpeg:https://cmpacarchive.com/wp-content/uploads/2020/08/RatPackWeb.jpg
END:VEVENT
BEGIN:VEVENT
DTSTART;TZID=America/Halifax:20200607T000000
DTEND;TZID=America/Halifax:20200608T235900
DTSTAMP:20260423T054610
CREATED:20200607T181056Z
LAST-MODIFIED:20220914T192015Z
UID:5045-1591488000-1591660740@cmpacarchive.com
SUMMARY:Songs of Hope
DESCRIPTION:&lt;span data-mce-type=”bookmark” style=”display: inline-block; width: 0px; overflow: hidden; line-height: 0;” class=”mce_SELRES_start”&gt;﻿&lt;/span&gt;&lt;span data-mce-type=”bookmark” style=”display: inline-block; width: 0px; overflow: hidden; line-height: 0;” class=”mce_SELRES_start”&gt;﻿&lt;/span&gt; \nClick Here for information on how to donate
URL:https://cmpacarchive.com/event/songs-of-hope/
CATEGORIES:Production Archive
ATTACH;FMTTYPE=image/jpeg:https://cmpacarchive.com/wp-content/uploads/2020/06/102840894_10158909619040832_3701737827436855296_o-2.jpg
END:VEVENT
BEGIN:VEVENT
DTSTART;TZID=America/Halifax:20200423T190000
DTEND;TZID=America/Halifax:20200827T190000
DTSTAMP:20260423T054610
CREATED:20200421T200318Z
LAST-MODIFIED:20220914T194044Z
UID:2096-1587668400-1598554800@cmpacarchive.com
SUMMARY:CM Spotlight
DESCRIPTION:Click Here for CM’s Facebook Page\n\nClick Here for CM’s Youtube Page\nClick Here to Donate to CM’s Emergency Support Fund\n\n \n  \nPast Episodes:
URL:https://cmpacarchive.com/event/cm-spotlight/
CATEGORIES:Production Archive
ATTACH;FMTTYPE=image/jpeg:https://cmpacarchive.com/wp-content/uploads/2020/04/cmspotlight.jpg
END:VEVENT
END:VCALENDAR